BEGIN:VCALENDAR
VERSION:2.0
PRODID:-//Transcend - ECPv6.15.20//NONSGML v1.0//EN
CALSCALE:GREGORIAN
METHOD:PUBLISH
X-WR-CALNAME:Transcend
X-ORIGINAL-URL:https://transcend-intl.com
X-WR-CALDESC:Events for Transcend
REFRESH-INTERVAL;VALUE=DURATION:PT1H
X-Robots-Tag:noindex
X-PUBLISHED-TTL:PT1H
BEGIN:VTIMEZONE
TZID:Asia/Hong_Kong
BEGIN:STANDARD
TZOFFSETFROM:+0800
TZOFFSETTO:+0800
TZNAME:HKT
DTSTART:20220101T000000
END:STANDARD
END:VTIMEZONE
BEGIN:VEVENT
DTSTART;TZID=Asia/Hong_Kong:20231013T150000
DTEND;TZID=Asia/Hong_Kong:20231013T170000
DTSTAMP:20260425T114101
CREATED:20230629T124910Z
LAST-MODIFIED:20231201T014808Z
UID:21259-1697209200-1697216400@transcend-intl.com
SUMMARY:Certificate in Professional Coaching - China (Chinese) (First session)
DESCRIPTION:This Level 1 programme will open the three-city linkage of Shanghai\, Chengdu\, and Shenzhen\, and the class will officially start in October 2023! The course integrates cutting-edge research results –  neuroscience\, business practice and mindful leadership . \nIt is based on the global cutting-edge business cases jointly researched by Chuangheng and Harvard Business Review and other international institutions\, combined with the practical experience of Chinese and foreign enterprises and polished. \nAccess this link for a list of our upcoming Certificate in Professional Coaching Programmes in China (Shanghai\, Chengdu\, Shenzhen) and learn more about why coaching-style leadership has gradually become the trend in the BANI era and your learning payoffs. \nOur programmes are skillfully designed to create a transformational learning journey\, with mindfulness-based approach\, equipping you with all the essential skills to support your career as a professional coach. \nRegister one month or more in advance to take advantage of our Early Bird Special Discount.  20% discount off the original price for Level 1 and Level 2 in one single enrollment. \nRegister by emailing: support@transcend-intl.cn
URL:https://transcend-intl.com/event/certificate-in-professional-coaching-china-chinese/
LOCATION:Transcend International – Coaching and Training\, Hong Kong
CATEGORIES:IN-PERSON TRAINING
ATTACH;FMTTYPE=image/png:https://transcend-intl.com/wp-content/uploads/2023/06/class-room-pink.png
ORGANIZER;CN="Transcend International":MAILTO:comms@transcend-intl.com
END:VEVENT
END:VCALENDAR